BEGIN:VCALENDAR
VERSION:2.0
PRODID:-//hacksw/handcal//NONSGML v1.0//EN
BEGIN:VEVENT
DTSTAMP:20250806T010000Z
DTSTART:20250806T010000Z
DTEND:20250806T050000Z

SUMMARY:"Weird Al" Yankovic: Bigger & Weirder 2025 Tour
DESCRIPTION:Get ready for an unforgettable night of comedy, music, and spectacle as “Weird Al” Yankovic brings his BIGGER & WEIRDER 2025 Tour to Pinewood Bowl Theater in Lincoln, Nebraska, on Tuesday, August 5, 2025!After six years, the world&#39;s biggest-selling comedy recording artist returns with a full-production multimedia concert, featuring:Hilarious parodies and fan-favorite deep cutsDazzling visuals and a massive video wallMultiple costume changesAn eight-piece band, including his original lineup🎤 Special Guest: Puddles Pity PartyViral sensation Puddles Pity Party, the “sad clown with the golden voice,” will join the tour, adding his unique blend of emotion and showmanship to the night.🎶 Celebrate Weird Al’s Legendary CareerWith five Grammy Awards, 17 nominations, and a place among legends like Madonna and Michael Jackson for charting Top 40 hits across four decades, Weird Al remains an unstoppable force in entertainment.Fans can expect classic hits including:Amish ParadiseEat ItWhite & NerdySmells Like NirvanaWord CrimesLike a Surgeon🏆 Recent Achievements:Emmy win for WEIRD: The Al Yankovic StoryRelease of new single Polkamania!35th Anniversary reissue of cult classic film UHF🎟 Don’t Miss Out!Experience the comedy rock concert of the year in Lincoln, NE. Get your tickets now for a night filled with unforgettable music, humor, and larger-than-life entertainment! 
END:VEVENT
END:VCALENDAR