BEGIN:VCALENDAR
VERSION:2.0
PRODID:-//hacksw/handcal//NONSGML v1.0//EN
BEGIN:VEVENT
DTSTAMP:20241229T013000Z
DTSTART:20241229T013000Z
DTEND:20241229T053000Z

SUMMARY:Dynasty Combat Sports: Season's Beatings 2024
DESCRIPTION:Dynasty Combat Sports Presents Annual "Season&#39;s Beatings" MMA Event at Pinnacle Bank Arena – December 28, 2024Nebraska&#39;s largest Mixed Martial Arts (MMA) event, Dynasty Combat Sports (DC) "Season’s Beatings," returns to Pinnacle Bank Arena in Lincoln for its 13th annual showdown on Saturday, December 28, 2024, at 7:30 PM.This exciting evening features elite MMA athletes from around the region, with a Bantamweight Title clash between fan favorite Nate Morrow and reigning champion Delfino Benitez as the night’s main event. In the co-main event, Lincoln’s own Bill Dieckhoff will take on heavyweight Brandon Sohl from Columbus. The pro card continues with Ultimate Fighter veteran Nyle Bartling facing Timehin Babalola from Kansas City, while former Amateur Middleweight Champion Sean Lindgren debuts professionally against Omaha’s Josh Trebbien.The action-packed amateur card sees featherweight champion Errich Holston defend his title against challenger Hunter Green, and local standout Vu Dinh square off with Haydyn Premer in a flyweight rematch. With a total of 16 scheduled bouts, fans will enjoy thrilling matchups featuring local favorites Kwajuan Mensah, Hope Misner, Kobe Lyons, Gil Martinez, Andrew Herrera, Cade Morton, Salim Zaido, and more.
END:VEVENT
END:VCALENDAR