BEGIN:VCALENDAR
VERSION:2.0
PRODID:-//hacksw/handcal//NONSGML v1.0//EN
BEGIN:VEVENT
DTSTAMP:20251121T004500Z
DTSTART:20251121T004500Z
DTEND:20251121T044500Z

SUMMARY:Riley Green
DESCRIPTION:Country music fans—get ready! Riley Green is bringing his Damn Country Music Tour to Pinnacle Bank Arena in Lincoln, Nebraska on Thursday, November 20, 2025. This highly anticipated show is part of the newly announced U.S. tour dates following a string of sold-out performances across North America.About the ShowKnown for his gritty vocals, heartfelt lyrics, and relatable storytelling, Riley Green is a force in modern country music. With hits like “There Was This Girl,” “I Wish Grandpas Never Died,” and his latest Platinum-certified tracks from his critically acclaimed third studio album Don’t Mind If I Do, Green continues to connect with fans nationwide.This Lincoln show will feature special guests Jamey Johnson, Drake White, and Hannah McFarland, making it a must-see event for any true country music fan.VIP Packages AvailableTake your concert night to the next level with exclusive VIP experiences, including:Premium reserved seatingMeet & Greet and photo with Riley GreenAccess to the VIP LoungeAutographed tour poster and more!For details, visit: VIPNation.com
END:VEVENT
END:VCALENDAR