BEGIN:VCALENDAR
VERSION:2.0
PRODID:-//hacksw/handcal//NONSGML v1.0//EN
BEGIN:VEVENT
DTSTAMP:20150716T190000Z
DTSTART:20150716T190000Z
DTEND:20150717T010000Z

SUMMARY:No Shoes Nation Pre-Party
DESCRIPTION:Pinnacle Bank Arena, Corona Light, and Blue Chair Bay Rum will host the official "No Shoes Nation" FREE Pre-Party from 2:00 p.m. - 8:00 p.m. at Pinnacle Bank Arena’s Outdoor Festival Lot located just north of the arena. Experience Kenny Chesney&#39;s Big Revival Tour Bus, win fabulous prizes and instant upgrades, enjoy food and drink specials while KX96.9 radio broadcasts today&#39;s hottest country music live from the Festival Lot. Admission is free.  EXPERIENCE KENNY CHESNEY&#39;S BIG REVIVAL TOUR BUSBlue Chair Bay Rum is the Official Spirit of the No Shoes Nation. Before you go into the Kenny Chesney concert, look for the Big Revival bus inside the No Shoes Nation Pre-Party. You&#39;ll have a chance for a photo opp with the bus. Climb inside to check out the exclusive Blue Chair Bay Rum experience, and be a part of history by signing your name on the bus. You will be able to sign up for chances to win instant upgrades, play some games, relax in an "Old Blue Chair." Quench your thirst with Blue Chair Bay Rum that will be available for purchase.FOOD & DRINK SPECIALS$3.00 Corona Light Draft Beer$5.00 Blue Chair Bay Rum Drinks$2.00 Hot DogsWIN PRIZES:As the official pre-concert destination, come party with the KX Radio Crew and you could win one of the many fabulous KX96.9 Prizes!Live Like Kenny with a NEW POOLAutographed Kenny GuitarSupply of Blue Chair Bay RumFun Beachy Backyard StuffPLUS UP FRONT SAND BAR KENNY CHESNEY TICKETS!WHAT:  Official No Shoes Nation Pre-Party Presented by Corona Light and Blue Chair Bay RumWHEN:  Thursday, July 16, 2015TIME:  2:00 p.m. - 8:00 p.m. (prior to Kenny Chesney Concert)ADMISSION:  Free to the public
END:VEVENT
END:VCALENDAR