BEGIN:VCALENDAR
VERSION:2.0
PRODID:-//hacksw/handcal//NONSGML v1.0//EN
BEGIN:VEVENT
DTSTAMP:20211222T180000Z
DTSTART:20211222T180000Z
DTEND:20211222T200000Z

SUMMARY:Nebraska Women vs. Wyoming
DESCRIPTION:Click here for the Ameritas Club Lounge Buffet menu
END:VEVENT
END:VCALENDAR