BEGIN:VCALENDAR
VERSION:2.0
PRODID:-//hacksw/handcal//NONSGML v1.0//EN
BEGIN:VEVENT
DTSTAMP:20260216T170000Z
DTSTART:20260216T170000Z
DTEND:20260216T200000Z

SUMMARY:Nebraska Women vs. Iowa
DESCRIPTION:
END:VEVENT
END:VCALENDAR