BEGIN:VCALENDAR
VERSION:2.0
PRODID:-//hacksw/handcal//NONSGML v1.0//EN
BEGIN:VEVENT
DTSTAMP:20260226T000000Z
DTSTART:20260226T000000Z
DTEND:20260226T030000Z

SUMMARY:Nebraska Men vs. Maryland
DESCRIPTION:
END:VEVENT
END:VCALENDAR