BEGIN:VCALENDAR
VERSION:2.0
PRODID:-//hacksw/handcal//NONSGML v1.0//EN
BEGIN:VEVENT
DTSTAMP:20211031T160000Z
DTSTART:20211031T160000Z
DTEND:20211031T180000Z

SUMMARY:Nebraska Men vs. Colorado
DESCRIPTION:
END:VEVENT
END:VCALENDAR