BEGIN:VCALENDAR
VERSION:2.0
PRODID:-//hacksw/handcal//NONSGML v1.0//EN
BEGIN:VEVENT
DTSTAMP:20220813T010000Z
DTSTART:20220813T010000Z
DTEND:20220813T060000Z

SUMMARY:Lincoln on the Streets with Jamey Johnson
DESCRIPTION:See Jamey Johnson with special guests Blackberry Smoke at Lincoln on the Streets located downtown at Centennial Mall and M Street.VIP ADMISSION INCLUDES: Preferred VIP viewing area next to the stageEarly entryAccess to private cash bar and bathrooms
END:VEVENT
END:VCALENDAR