BEGIN:VCALENDAR
VERSION:2.0
PRODID:-//hacksw/handcal//NONSGML v1.0//EN
BEGIN:VEVENT
DTSTAMP:20200410T010000Z
DTSTART:20200410T010000Z
DTEND:20200410T130000Z

SUMMARY:#LightItBlue
DESCRIPTION:To our frontline and essential workers, we want to thank you for your continued efforts during this unprecedented period. 
END:VEVENT
END:VCALENDAR