BEGIN:VCALENDAR
VERSION:2.0
PRODID:-//hacksw/handcal//NONSGML v1.0//EN
BEGIN:VEVENT
DTSTAMP:20170819T003000Z
DTSTART:20170819T003000Z
DTEND:20170819T043000Z

SUMMARY:Kendrick Lamar
DESCRIPTION:*Come early on Friday, August 18, show your Kendrick Lamar ticket for FREE admission into Capital City Ribfest outside Pinnacle Bank Arena in the Festival Lot. Good for Friday only.Top Dawg Entertainment (TDE) and Kendrick Lamar announced today that the sold out THE DAMN. TOUR is expanding to even more cities across North America. Continuing throughout August and early September, the tour produced by Live Nation will have YG and D.R.A.M. opening for Kendrick starting August 11 in Anaheim, CA stopping in Lincoln, NE on August 18. In support of Kendrick’s platinum selling number one album, DAMN., the first leg of the in-demand tour will feature previously revealed Travis Scott and D.R.A.M. in locations across the United States and Canada.American Express® Card Members can purchase tickets before the general public beginning Thursday, May 18 at 10am local time.
END:VEVENT
END:VCALENDAR