BEGIN:VCALENDAR
VERSION:2.0
PRODID:-//hacksw/handcal//NONSGML v1.0//EN
BEGIN:VEVENT
DTSTAMP:20220807T003000Z
DTSTART:20220807T003000Z
DTEND:20220807T053000Z

SUMMARY:CANCELED - truTV’s Impractical Jokers
DESCRIPTION:The TruTv&#39;s Impractical Jokers show at Pinnacle Bank Arena on August 6, 2022, has been canceled.Credit card purchases made online at ticketmaster.com or credit card purchases made in person at the Pinnacle Bank Arena Ticket Office, refunds will automatically be refunded to your credit card, and no action is required. All other tickets will be refunded at the point of purchase.Cash purchases made in person at the Pinnacle Bank Arena Ticket Office must email boxoffice@pinnaclebankarena.com or call 402.904.5600 to arrange a time to return tickets to the ticket office to receive a cash refund. 
END:VEVENT
END:VCALENDAR