BEGIN:VCALENDAR
VERSION:2.0
PRODID:-//hacksw/handcal//NONSGML v1.0//EN
BEGIN:VEVENT
DTSTAMP:20180804T230000Z
DTSTART:20180804T230000Z
DTEND:20180805T040000Z

SUMMARY:Haymarket in White 
DESCRIPTION:**The first 250 people will get a free pair of white sunglasses from Ayars & Ayars, Inc. at the entrance of the Dinner & Dance.The Lincoln Haymarket Development Corporation presents the 4th Annual “Haymarket in White” Dinner & Dance at Pinnacle Bank Arena. Guests will dress all in white, dine on gourmet picnic fare and dance the night away. Attendees can spend a beautiful night at an event that encourages the community to come together to celebrate Lincoln and the Haymarket.Cocktail hour is at 6:00 p.m. with dinner at 7:00 p.m. Music will be provided by High Heel. Three gourmet picnic dinners will be offered with one free drink ticket during happy hour. Tickets are $50 per person. DEADLINE TO PURCHASE DINNER TICKETS:  Wednesday, August 1 @ 5PM. For more information, please call the Haymarket Office at 402.435.7496.If you can only join us for the dance, purchase DANCE ONLY TICKETS FOR $10 (includes 1 drink ticket)! The Dance starts at 8:30PM - 12 Midnight.Bourgogne Beef Dinner:  $50 per personBeef Tenderloin Au Poivre served medium rare, sliced thin with blue cheese crumbles & horseradish sauceHeirloom Cherry Tomato Tart with balsamic drizzleShrimp CocktailBrie & CrackersRed & White GrapesFresh Croissant2 MacaroonsNormandy Pork Dinner:  $50 per personCoriander Brined Pork Loin served sliced thin with orange citrus chutney & stone-ground mustardWild Mushroom GaletteSmoked Trout PateBrie & CrackersRed & White GrapesFresh Croissant2 MacaroonsProvence Dinner – Charcuterie:  $50 per personCured Meats to include Coppa, Salami, and Prosciutto served with Giardiniera, Peppadew & Cherry Peppers, Olive Tapenade, and GoudaFromage Blanc Spread with sliced baguetteBrie & CrackersRed & White Grapes2 MacaroonsTuscany Vegetarian:  $50 per personHeirloom Cherry Tomato Tart with balsamic drizzleBrie & CrackersRed & White GrapesFresh CroissantWild Mushroom GaletteFromage Blanc Spread with sliced baguette2 MacaroonsLiguria Gluten Free:  $50 per personCoriander Brined Pork Loin served sliced thin with orange citrus chutney & stone-ground mustardShrimp CocktailBrie & Gluten Free CrackersRed & White GrapesFromage Blanc Spread with sliced baguetteGluten Free BreadGluten Free Hazelnut/vanilla short bread*Quality Beef & Pork supplied by Omaha SteaksWHAT:  Haymarket in White...Dinner & DanceWHEN:  Saturday, August 4, 2018EVENT TIME:  6:00 p.m. Cocktails / 7:00 p.m. DinnerDANCE ONLY:  8:30 p.m. - 12 MidnightINDIVIDUAL DINNER TICKETS: $50 per person (subject to applicable fees)DANCE ONLY TICKETS:  $10 (includes 1 drink ticket, subject to applicable fees)DEADLINE TO PURCHASE DINNER TICKETS:  Wednesday, August 1 at 5PMFor more information, please call the Haymarket Office at 402.435.7496. 8:30PMON SALE MONDAY, JULY 2 - DANCE ONLY TICKETS:  Dance Only Tickets can be purchased at ticketmaster.com and Pinnacle Bank Arena Ticket Office. The dance starts at 8:30PM - 12 Midnight.
END:VEVENT
END:VCALENDAR