BEGIN:VCALENDAR
VERSION:2.0
PRODID:-//hacksw/handcal//NONSGML v1.0//EN
BEGIN:VEVENT
DTSTAMP:20240430T000000Z
DTSTART:20240430T000000Z
DTEND:20240430T040000Z

SUMMARY:Greta Van Fleet
DESCRIPTION:Fans who’d like to line up early for Greta Van Fleet General Admission (GA) at Pinnacle Bank Arena will utilize a wristband system for entry. Wristbands will become available at 8:30 AM on Monday 29th. Each wristband will be numbered in the order in which it was given out.Wristband distribution will be available from 8:30 AM until 12 Noon by entering the Ticket Office on the southwest corner of the arena. After 12 Noon, the building will be cleared, and access will be restricted.The GA entry queue will begin at 5:00 PM outside the Student Door, Located on the Southeast side of the main entrance. At that point, fans may line up in the order of their numbered wristbands (starting with 1, 2, 3, and so on). Public doors will open at approximately 6:00 PM.Please Note:  Camping is not permitted at Pinnacle Bank Arena.Only one wristband may be issued per ticket holder.Original wristbands must remain intact and untampered to assure its numbered place in line.Fans exit the building after receiving their wristband.Fans who arrive after 5:00 PM and who have not received a wristband may line up behind the early queue on a first-come, first-served basis.Forming in Frankenmuth, Michigan in 2012, Greta Van Fleet consists of three brothers—vocalist Josh Kiszka, guitarist Jake Kiszka and bassist/keyboardist Sam Kiszka—as well as drummer Danny Wagner. Together they have performed across multiple continents, sold over 3.5 million records worldwide and performed on late night television shows such as “Saturday Night Live,” “The Late Show with Stephen Colbert” and “Jimmy Kimmel Live[b]!”  Their From The Fires EP, released in 2017, won Best Rock Album at the 61st Grammy Awards. Their critically acclaimed sophomore album The Battle at Garden’s Gate, released in 2021, debuted at #1 Billboard Rock Album, #1 Billboard Hard Rock Album, #1 Billboard Vinyl Album, #2 Billboard Top Album Sales and in the Top 10 on the Billboard 200. Most recently their third album Starcatcher, released on July 21st, 2023, debuted at #1 on the Top Rock Albums, Top Hard Rock Albums, Top Rock/Alternative Albums Charts, and Top Ten on the Billboard 200.
END:VEVENT
END:VCALENDAR