BEGIN:VCALENDAR
VERSION:2.0
PRODID:-//hacksw/handcal//NONSGML v1.0//EN
BEGIN:VEVENT
DTSTAMP:20261206T010000Z
DTSTART:20261206T010000Z
DTEND:20261206T050000Z

SUMMARY:Christmas Together 
DESCRIPTION:Following a celebrated debut that captivated audiences nationwide, Christmas Together returns this holiday season with an exciting new chapter—featuring three of Christian music’s most beloved voices: Amy Grant, Michael W. Smith, and CeCe Winans. Due to overwhelming demand, the 2026 tour expands into arenas across the country, bringing this cherished holiday experience to more fans than ever before.What began as an intimate theater tour has quickly grown into a must-see Christmas tradition. Audiences are drawn to the powerful chemistry, shared legacy, and heartfelt performances these iconic artists bring to the stage. Now, with a larger production and expanded venues, even more fans can experience an unforgettable evening of music, worship, and celebration.Blending timeless Christmas classics with career-defining hits, Christmas Together captures the true spirit of the season. With decades of influence and a deep-rooted message of faith, Grant, Smith, and Winans create a moving and unifying concert experience that resonates across generations.Whether you&#39;re starting a new holiday tradition or continuing a beloved one, Christmas Together offers a meaningful way to celebrate the hope, peace, and joy of the birth of Christ. Bigger, brighter, and more impactful than ever, this year’s tour promises a truly unforgettable night.
END:VEVENT
END:VCALENDAR