BEGIN:VCALENDAR
VERSION:2.0
PRODID:-//hacksw/handcal//NONSGML v1.0//EN
BEGIN:VEVENT
DTSTAMP:20181122T000000Z
DTSTART:20181122T000000Z
DTEND:20181122T040000Z

SUMMARY:Breaking Benjamin & Five Finger Death Punch
DESCRIPTION:
END:VEVENT
END:VCALENDAR