BEGIN:VCALENDAR
VERSION:2.0
PRODID:-//hacksw/handcal//NONSGML v1.0//EN
BEGIN:VEVENT
DTSTAMP:20170727T010000Z
DTSTART:20170727T010000Z
DTEND:20170727T040000Z

SUMMARY:2CELLOS
DESCRIPTION:The 2Cellos concert slated for Pinewood Bowl Theater on Wednesday, July 26 has been moved to Pinnacle Bank Arena because of impending inclement weather.Here&#39;s what you should know if you&#39;re joining us:Staff will be available to assist you in finding your reserved seatBag searches required for entry.Small & compact umbrellas will be allowed. Umbrellas with long hook handles will not be allowed. Bags or purses 13” x 15” or smaller are acceptable. No backpacks.No audio or video allowed.Cell phone photos are permitted. No professional cameras or cameras with detachable lenses.No signs larger than 8.5” x 11”.No strollers.No weapons including pocket knives and tasers. These items will be confiscated and not returned.
END:VEVENT
END:VCALENDAR